BEGIN:VCALENDAR
VERSION:2.0
PRODID:-//Department Of Education//8daf4b3c-5088-4d2f-b455-245e4f8c2fc8
BEGIN:VTIMEZONE
TZID:Australia/Sydney
TZURL:http://tzurl.org/zoneinfo-outlook/Australia/Sydney
X-LIC-LOCATION:Australia/Sydney
BEGIN:STANDARD
TZOFFSETFROM:+1100
TZOFFSETTO:+1000
TZNAME:AEST
DTSTART:19700405T030000
RRULE:FREQ=YEARLY;BYMONTH=4;BYDAY=1SU
END:STANDARD
BEGIN:DAYLIGHT
TZOFFSETFROM:+1000
TZOFFSETTO:+1100
TZNAME:AEDT
DTSTART:19701004T020000
RRULE:FREQ=YEARLY;BYMONTH=10;BYDAY=1SU
END:DAYLIGHT
END:VTIMEZONE
CALSCALE:GREGORIAN
X-WR-TIMEZONE:Australia/Sydney
BEGIN:VEVENT
DTSTART;TZID=Australia/Sydney:20191107T090000
DTEND;TZID=Australia/Sydney:20191107T093000
DTSTAMP:20191107T000000Z
UID:d25c9c0f-82a6-4d58-be23-478996cb1cb8
LOCATION:
SUMMARY;LANGUAGE=en-us:Student Banking
RRULE:FREQ=WEEKLY;INTERVAL=1;UNTIL=20201107;
SEQUENCE:0
DESCRIPTION:
END:VEVENT
TRANSP:TRANSPARENT
END:VCALENDAR
